BEGIN:VCALENDAR
VERSION:2.0
PRODID:-//https://depb.eu///NONSGML kigkonsult.se iCalcreator 2.10.15//
METHOD:PUBLISH
BEGIN:VEVENT
UID:20260420T105459CEST-7734F8rRoZ@https://depb.eu/
DTSTAMP:20260420T085459Z
DESCRIPTION:&nbsp\;\nMálaga / Granada\nAndalusien: Im Land der Mauren Málag
 a / Granada – eine historisch-politische Landeskunde\nNirgendwo sonst auf 
 der Iberischen Halbinsel finden sich Gegensätze aller Schattierung auf so 
 engem Raum: zwischen dem Hochtal von Granada und der Küste von Málaga\, zw
 ischen Sierra Nevada und Mittelmeer\, zeigen die beiden Provinzen im Osten
  Andalusiens Klimazonen von hochalpin bis subtropisch im Umkreis weniger K
 ilometer. Eine wechselvolle Geschichte hat den Städten und Dörfern im Südo
 sten Spaniens ihren Stempel aufgedrückt: Über acht Jahrhunderte herrscht h
 ier der iberische Islam. Die Mauren im Emirat Granada erreichen vor allem 
 durch kluge Landwirtschaft\, durch Handel und Wandel erheblichen Wohlstand
 . Granada mit dem Weltkulturerbe der Alhambra bleibt ein Stück Orient auf 
 europäischem Boden. In späteren Zeiten folgt ein sozialer Niedergang\, der
  bis heute spürbar ist. Inzwischen wetteifern die andalusischen Provinzen 
 um ihren Teil am spanischen Wohlstandskuchen\, Tourismus steht mancherorts
  in Konkurrenz zur Landwirtschaft und der Klimawandel wirft seine Schatten
  – Begegnung mit einer Region der Kontraste.\nMögliche Inhalte und Themen
 \n\nMálaga – von der Hafenstadt zur Metropole\nMassentourismus: Chancen un
 d Gefahren\nLandwirtschaft an der andalusischen Küste\nSozialer Umbruch in
  Andalusien: Wohlstand und Disparität\nGranada: Stadt zwischen gestern und
  heute\nSchatten des Bürgerkriegs: Der Dichter Federico García Lorca\nDas 
 islamische Granada heute\nAlhambra – Traumpalast der Nasriden\n1492: Das E
 nde des spanischen Islams\nFlamenco: Regionale und nationale Kultur\n\nLei
 stungen\n\nFlug ab/bis Düsseldorf nach Málaga\nBusgestellung vor Ort\n5 x 
 Übernachtung / Frühstück in zentral gelegenen Mittelklassehotels\n2 x Halb
 pension im Hotel bzw. in landestypischen Restaurants\nSeminarprogramm\, ei
 nschl. der ausgewiesenen Exkursionen\, Eintritte\, Besichtigungen\nÜberset
 zerleistungen&nbsp\;\nDeutschsprachige Begleitung während des gesamten Stu
 dienseminars\nDEPB-Leitung\n\nHinweis\nFür Führungen / Rundgänge sollten S
 ie über eine ausreichende körperliche Kondition verfügen.\n\n\n\nDatum\nSe
 minarort(e)\nAbfahrtsort(e)\nSeminarleitung\nTeilnehmerbeitrag\n\n\n01.11.
  - 06.11.2026\nMálaga / Granada\nDüsseldorf Flughafen\nRaimund Allebrand /
  Petra Theisling\n€ 1.630\,00 p.P. DZ / € 1.930\,00 EZ\n\n\nausgebucht\n26
 1101MAL\n\n\n\n\n\n https://depb.eu/ereignis/47-malaga-granada
DTSTART:20261101T000000Z
DTEND:20261106T000000Z
LOCATION:Málaga / Granada ()
SUMMARY:Málaga / Granada
URL:https://depb.eu/ereignis/47-malaga-granada
END:VEVENT
END:VCALENDAR
