BEGIN:VCALENDAR
VERSION:2.0
PRODID:-//https://depb.eu///NONSGML kigkonsult.se iCalcreator 2.10.15//
METHOD:PUBLISH
BEGIN:VEVENT
UID:20260424T102759CEST-7875d2Seog@https://depb.eu/
DTSTAMP:20260424T082759Z
DESCRIPTION:Frankfurt am Main\nVon einer Kaiserpfalz zur Wiege der deutsche
 n Demokratie und größten europäischen Finanzmetropole\nDie bevölkerungsrei
 chste Stadt des Bundeslandes Hessen gehört seit dem Mittelalter zu den bed
 eutenden städtischen Zentren Deutschlands. Die Geschichte Frankfurts ist d
 ie eines Hügels am Main\, der sich zur Finanzmetropole Europas entwickelt.
  In der Frankfurter Paulskirche tagte 1848/49 das erste deutsche Parlament
 \, die Nationalversammlung\, hier wurden unter anderem deutsche Grundrecht
 e formuliert. Damit gilt dieser historische Ort bis heute als Symbol für d
 ie deutsche Demokratiebewegung. Aber auch in den Bereichen Bildung\, Kunst
  und Architektur ist die Stadt einzigartig in Deutschland: mittelalterlich
 e Kirchtürme und Plätze sowie gläserne Gebäude der Moderne prägen die beso
 ndere Skyline der Stadt.\nMögliche Inhalte und Themen\n\nDie Frankfurter P
 aulskirche\, Ort des ersten deutschen Parlamentes 1848/49 und Symbol der d
 eutschen Demokratiebewegung. Vortrag und Führung\nDer Frankfurter Römer (R
 athaus) und der Römerberg – Zentrum der Stadtpolitik: Kommunalpolitik in e
 iner europäischen Wirtschaftsmetropole: Führung und Gespräch mit Abgeordne
 ten\nStadtführung / Stadtrundfahrt: Vom „Alten Frankfurt“ zum „Modernen Fr
 ankfurt“ – Geschichten vergangener Jahrhunderte und ein Blick in die futur
 istische Architektur Frankfurts\n900 Jahre jüdisches Leben in Frankfurt: B
 esuch des Jüdischen Museums und dem Museum Judengasse\nStadtrundfahrt durc
 h das Frankfurter Ostend: Stadtteil im permanenten Wandel\nDer Frankfurter
  Flughafen – wichtiger Wirtschaftsfaktor der Rhein-Main-Region. Gespräch u
 nd Rundfahrt auf dem Flughafengelände\nBankenmetropole Frankfurt. Vortrag 
 zum Auftrag und zur Arbeitsweise der Europäischen Zentralbank\nBesuch der 
 Frankfurter Börse mit Vortrag\nExkursion ins UNESCO Welterbe Oberes Mittel
 rheintal\n\nBildungsurlaub / Sonderurlaub\nDas Seminar ist nach dem Arbeit
 nehmerweiterbildungsgesetz NRW anerkannt und dient der politischen Weiterb
 ildung im Sinne dieses Gesetzes. Weitere Einzelheiten erfragen Sie bitte b
 eim DEPB.\nLeistungen\n\nFahrt im Komfort-Reisebus\nBusgestellung vor Ort 
 \n4 x Übernachtung / Frühstück im 4-Sterne-Hotel Novotel Frankfurt City\n2
  x Halbpension im Hotel bzw. in verschiedenen Restaurants\nSeminarprogramm
 \, einschl. der ausgewiesenen Exkursionen\, Eintritte\, Besichtigungen\nDE
 PB-Leitung\n\nHinweis\nFür Führungen und Rundgänge sollten Sie über eine a
 usreichende körperliche Kondition verfügen.\n\n\n\nDatum\nSeminarort(e) / 
 Nr.\nAbfahrtsort(e)\nSeminarleitung\nTeilnehmerbeitrag\n\n\n22.02. - 26.02
 .2026\nFrankfurt am Main\nBielefeld\nUwe Görtler / Ruth Nolden\n€ 640\,00 
 p.P. DZ / € 780\,00 EZ\n\n\nausgebucht\n260222FRA\n\n\n\n\n\n https://depb
 .eu/studienseminare/deutschlandpolitik/ereignis/5-frankfurt-am-main
DTSTART:20260222T000000Z
DTEND:20260226T000000Z
LOCATION:Frankfurt am Main ()
SUMMARY:Frankfurt am Main
URL:https://depb.eu/studienseminare/deutschlandpolitik/ereignis/5-frankfurt
 -am-main
END:VEVENT
END:VCALENDAR
