BEGIN:VCALENDAR
VERSION:2.0
PRODID:-//https://depb.eu///NONSGML kigkonsult.se iCalcreator 2.10.15//
METHOD:PUBLISH
BEGIN:VEVENT
UID:20260424T104116CEST-9253SFGXB3@https://depb.eu/
DTSTAMP:20260424T084116Z
DESCRIPTION: \nRom\nQuo vadis Rom – die ewige Stadt zwischen Tradition und 
 Moderne: Eine historisch-politische Spurensuche\nDie antik-römische Kultur
 \, die lateinische Sprache\, der Vatikan mit dem Papst\, die staatliche Or
 ganisation und zahlreiche Rechtsgrundsätze der Römer übten auf die westeur
 opäischen Gesellschaften über viele Jahrhunderte großen Einfluss aus. Heut
 e ist Rom Hauptstadt der Italienischen Republik\, in ihrem Zentrum birgt s
 ie den kleinsten Staat der Welt: den Vatikan. Über den Dächern und Kuppeln
  der Stadt schwelt aber auch die dunkle Vergangenheit des Faschismus. Eine
  Vergangenheit\, die in neuer Form wiederzukehren scheint. Rechtsnationale
  und rechtsextreme Parteien haben einen immer breiteren Konsens in Italien
 . Überraschender Weise erweist sich die Regierung um Giorgia Meloni im Lan
 d der Regierungskrisen und Auflösungen als sehr stabil. Das Studienseminar
  gibt Einblicke in die historisch-politische Entwicklung Roms und geht der
  Frage nach\, wie diese Stadt\, die sich schon immer als Zentrum der Welt 
 verstand\, mit diesem Selbstverständnis umgeht.\nMögliche Inhalte und Them
 en\n\nRom – Hauptstadt einer verspäteten Nation\nStaat und Kirche – die rö
 mische Frage\nVatikanstadt – kleinster Staat der Welt\nTrastevere – jüdisc
 hes Leben im ältestes Stadtviertel Roms\nAntikes Rom – Forum Romanum\, Pal
 atin-Hügel und Kolosseum\nRechtsruck\, Populismus und die Gefahr des Natio
 nalismus – Auswirkungen auf Europa\nDeutsch-italienische Beziehungen\nRom 
 und der Massentourismus\n\nLeistungen\n\nFlug ab / bis Düsseldorf\nBusgest
 ellung vor Ort\n6 x Übernachtung / Frühstück im 3-Sterne-Hotel Casa Bonus 
 Pastor\n2 x Halbpension im Hotel bzw. in landestypischen Restaurants / 1 x
  Mittagessen\nSeminarprogramm\, einschl. der ausgewiesenen Exkursionen\, E
 intritte\, Besichtigungen\nAudiosystem\ndeutschsprachige örtliche Begleitu
 ng während des gesamten Studienseminars\nDolmetscherleistungen\nDEPB-Leitu
 ng\n\nHinweis\nFür Führungen und Rundgänge sollten Sie über eine ausreiche
 nde körperliche Kondition verfügen.\n\n\n\nDatum\nSeminarort(e) / Nr.\nAbf
 ahrtsort(e)\nSeminarleitung\nTeilnehmerbeitrag\n\n\n17.02. - 23.02.2026\nR
 om\nDüsseldorf Flughafen\nAndrea Madena\n€ 1.750\,00 p.P. DZ / € 1.930\,00
  EZ\n\n\nausgebucht\n260217ROM\n\n\n\n\n\n https://depb.eu/studienseminare
 /europapolitik/ereignis/4-rom
DTSTART:20260217T000000Z
DTEND:20260223T000000Z
LOCATION:Rom ()
SUMMARY:Rom
URL:https://depb.eu/studienseminare/europapolitik/ereignis/4-rom
END:VEVENT
END:VCALENDAR
