BEGIN:VCALENDAR
VERSION:2.0
PRODID:-//https://depb.eu///NONSGML kigkonsult.se iCalcreator 2.10.15//
METHOD:PUBLISH
BEGIN:VEVENT
UID:20260422T120558CEST-4132flGuTa@https://depb.eu/
DTSTAMP:20260422T100558Z
DESCRIPTION:Krakau\nKrakau – polnische Geschichte und deutsche Vergangenhei
 t\nKrakau\, die ehemalige Königsstadt Polens\, spiegelt wie kaum ein ander
 er Ort die Verflechtungen zwischen Deutschland und Polen wider. Eine beweg
 te Vergangenheit und die kulturelle Vielfalt zeichnen die „heimliche Haupt
 stadt“ Polens aus. Wir beleuchten die deutsch-polnischen Beziehungen im hi
 storischen Kontext und setzen uns mit der Zeit des Nationalsozialismus aus
 einander. Als Beispiel für eine polnische Stadt\, die vielleicht mehr als 
 jede andere für ein multikulturelles und vielsprachiges Europa steht\, ste
 llen wir die Stadtregion Krakau vor.\nMögliche Inhalte und Themen\n\nGespr
 äch im Rathaus der Stadt Krakau zu Fragen der Kommunalpolitik\nKrakau – „d
 ie Magische“ und UNESCO-Weltkulturerbe. Politischer Stadtrundgang\nDeutsch
 -polnischer Rückblick: Geschichte und kulturelle Vielfalt Krakaus\nGespräc
 h im Deutschen Generalkonsulat zum polnisch-deutschen Verhältnis\nFührung 
 durch die ehemalige Schindler Fabrik\, Gedenkort und Museum\nBesuch der Sy
 nagoge und Gespräch mit einem Vertreter der jüdischen Gemeinde\nVölkermord
  als deutsches Erbe: Führung in der Gedenkstätte Auschwitz\nNowa Huta und 
 die gesellschaftliche Identität\n\nLeistungen\n\nFlug ab / bis Düsseldorf
 \nBusgestellung vor Ort\n5 x Übernachtung / Frühstück im 3-Sterne Hotel Be
 st Western Plus Kraków Old Town\n2 x Halbpension im Hotel bzw. in landesty
 pischen Restaurants / 1 x Mittagessen\nSeminarprogramm\, einschl. der ausg
 ewiesenen Exkursionen\, Eintritte\, Besichtigungen\nDeutschsprachige örtli
 che Begleitung während des gesamten Studienseminars\nDolmetscherleistungen
 \nDEPB-Leitung\n\nHinweis\nFür Führungen / Rundgänge sollten Sie über eine
  ausreichende körperliche Kondition verfügen.\n\n\n\nDatum\nSeminarort(e)
 \nAbfahrtsort(e)\nSeminarleitung\nTeilnehmerbeitrag\n\n\n04.10. - 09.10.20
 26\nKrakau\nDüsseldorf Flughafen\nPetra Theisling\n€ 1.190\,00 p.P. DZ / €
  1.460\,00 EZ\n\n\n\n261004KRA\n\n\n\n\n\n https://depb.eu/studienseminare
 /europapolitik/ereignis/44-krakau
DTSTART:20261004T000000Z
DTEND:20261009T000000Z
LOCATION:Krakau ()
SUMMARY:Krakau
URL:https://depb.eu/studienseminare/europapolitik/ereignis/44-krakau
END:VEVENT
END:VCALENDAR
